BEGIN:VCALENDAR
VERSION:2.0
PRODID:-//大澤ちほ スマイルプロジェクト - ECPv6.15.17//NONSGML v1.0//EN
CALSCALE:GREGORIAN
METHOD:PUBLISH
X-ORIGINAL-URL:https://smileproject.jp
X-WR-CALDESC:大澤ちほ スマイルプロジェクト のイベント
REFRESH-INTERVAL;VALUE=DURATION:PT1H
X-Robots-Tag:noindex
X-PUBLISHED-TTL:PT1H
BEGIN:VTIMEZONE
TZID:Asia/Tokyo
BEGIN:STANDARD
TZOFFSETFROM:+0900
TZOFFSETTO:+0900
TZNAME:JST
DTSTART:20230101T000000
END:STANDARD
END:VTIMEZONE
BEGIN:VEVENT
DTSTART;VALUE=DATE:20240326
DTEND;VALUE=DATE:20240330
DTSTAMP:20260419T213128
CREATED:20240304T030347Z
LAST-MODIFIED:20240304T030347Z
UID:1020-1711411200-1711756799@smileproject.jp
SUMMARY:風越カップ全日本少年アイスホッケー大会（少年の部）
DESCRIPTION:
URL:https://smileproject.jp/event/%e9%a2%a8%e8%b6%8a%e3%82%ab%e3%83%83%e3%83%97%e5%85%a8%e6%97%a5%e6%9c%ac%e5%b0%91%e5%b9%b4%e3%82%a2%e3%82%a4%e3%82%b9%e3%83%9b%e3%83%83%e3%82%b1%e3%83%bc%e5%a4%a7%e4%bc%9a%ef%bc%88%e5%b0%91%e5%b9%b4/
LOCATION:軽井沢風越公園アイスアリーナ\, 長野県北佐久郡軽井沢町大字長倉182-3\, 389-0111
END:VEVENT
BEGIN:VEVENT
DTSTART;VALUE=DATE:20240327
DTEND;VALUE=DATE:20240328
DTSTAMP:20260419T213128
CREATED:20240312T053752Z
LAST-MODIFIED:20240312T053752Z
UID:1050-1711497600-1711583999@smileproject.jp
SUMMARY:【ラジオ出演】AIR-G’ REALIVE RADIO
DESCRIPTION:19:30〜20:00 \n80.4 FM HOKKAIDO
URL:https://smileproject.jp/event/%e3%80%90%e3%83%a9%e3%82%b8%e3%82%aa%e5%87%ba%e6%bc%94%e3%80%91air-g-realive-radio/
END:VEVENT
END:VCALENDAR