BEGIN:VCALENDAR
VERSION:2.0
PRODID:-//大澤ちほ スマイルプロジェクト - ECPv6.15.17//NONSGML v1.0//EN
CALSCALE:GREGORIAN
METHOD:PUBLISH
X-ORIGINAL-URL:https://smileproject.jp
X-WR-CALDESC:大澤ちほ スマイルプロジェクト のイベント
REFRESH-INTERVAL;VALUE=DURATION:PT1H
X-Robots-Tag:noindex
X-PUBLISHED-TTL:PT1H
BEGIN:VTIMEZONE
TZID:Asia/Tokyo
BEGIN:STANDARD
TZOFFSETFROM:+0900
TZOFFSETTO:+0900
TZNAME:JST
DTSTART:20230101T000000
END:STANDARD
END:VTIMEZONE
BEGIN:VEVENT
DTSTART;VALUE=DATE:20240322
DTEND;VALUE=DATE:20240325
DTSTAMP:20260419T214153
CREATED:20240301T082729Z
LAST-MODIFIED:20240301T082729Z
UID:995-1711065600-1711324799@smileproject.jp
SUMMARY:大人のためのアイスホッケースクール
DESCRIPTION:3月22日（金）19:30〜21:00 \n3月23日（土）19:30〜21:00 \n3月24日（日）19:30〜21:00
URL:https://smileproject.jp/event/%e5%a4%a7%e4%ba%ba%e3%81%ae%e3%81%9f%e3%82%81%e3%81%ae%e3%82%a2%e3%82%a4%e3%82%b9%e3%83%9b%e3%83%83%e3%82%b1%e3%83%bc%e3%82%b9%e3%82%af%e3%83%bc%e3%83%ab/
LOCATION:nepiaアイスアリーナ\, 若草町2丁目4番1号\, 苫小牧市\, 053-0021\, 日本
END:VEVENT
BEGIN:VEVENT
DTSTART;VALUE=DATE:20240323
DTEND;VALUE=DATE:20240326
DTSTAMP:20260419T214153
CREATED:20240304T020950Z
LAST-MODIFIED:20240304T020950Z
UID:1011-1711152000-1711411199@smileproject.jp
SUMMARY:全日本小学生低学年選抜アイスホッケー大会
DESCRIPTION:太陽生命U9ジャパンカップ2024 \n第12回全日本小学生低学年選抜アイスホッケー大会
URL:https://smileproject.jp/event/%e5%85%a8%e6%97%a5%e6%9c%ac%e5%b0%8f%e5%ad%a6%e7%94%9f%e4%bd%8e%e5%ad%a6%e5%b9%b4%e9%81%b8%e6%8a%9c%e3%82%a2%e3%82%a4%e3%82%b9%e3%83%9b%e3%83%83%e3%82%b1%e3%83%bc%e5%a4%a7%e4%bc%9a/
LOCATION:KOSÉ新横浜スケートセンター\, 神奈川県横浜市港北区新横浜２－１１
END:VEVENT
BEGIN:VEVENT
DTSTART;VALUE=DATE:20240323
DTEND;VALUE=DATE:20240327
DTSTAMP:20260419T214153
CREATED:20240304T021739Z
LAST-MODIFIED:20240304T021805Z
UID:1015-1711152000-1711497599@smileproject.jp
SUMMARY:全日本少年アイスホッケー大会（中学の部）
DESCRIPTION:
URL:https://smileproject.jp/event/%e5%85%a8%e6%97%a5%e6%9c%ac%e5%b0%91%e5%b9%b4%e3%82%a2%e3%82%a4%e3%82%b9%e3%83%9b%e3%83%83%e3%82%b1%e3%83%bc%e5%a4%a7%e4%bc%9a%ef%bc%88%e4%b8%ad%e5%ad%a6%e3%81%ae%e9%83%a8%ef%bc%89/
LOCATION:釧路アイスアリーナ\, 釧路市鳥取大通3-6-33
END:VEVENT
END:VCALENDAR