BEGIN:VCALENDAR
VERSION:2.0
PRODID:-//大澤ちほ スマイルプロジェクト - ECPv6.15.17//NONSGML v1.0//EN
CALSCALE:GREGORIAN
METHOD:PUBLISH
X-ORIGINAL-URL:https://smileproject.jp
X-WR-CALDESC:大澤ちほ スマイルプロジェクト のイベント
REFRESH-INTERVAL;VALUE=DURATION:PT1H
X-Robots-Tag:noindex
X-PUBLISHED-TTL:PT1H
BEGIN:VTIMEZONE
TZID:Asia/Tokyo
BEGIN:STANDARD
TZOFFSETFROM:+0900
TZOFFSETTO:+0900
TZNAME:JST
DTSTART:20230101T000000
END:STANDARD
END:VTIMEZONE
BEGIN:VEVENT
DTSTART;VALUE=DATE:20240316
DTEND;VALUE=DATE:20240317
DTSTAMP:20260419T213105
CREATED:20240304T014346Z
LAST-MODIFIED:20240305T004230Z
UID:1002-1710547200-1710633599@smileproject.jp
SUMMARY:アジアリーグ
DESCRIPTION:①横浜GRITS vs 東北フリーブレイズ \n 　15:00〜＠ダイドードリンコアイスアリーナ \n ②HLアニャン vs 日光アイスバックス \n 　16:00〜＠アニャンアイスアリーナ
URL:https://smileproject.jp/event/%e3%82%a2%e3%82%b8%e3%82%a2%e3%83%aa%e3%83%bc%e3%82%b0-3/
LOCATION:ダイドードリンコアイスアリーナ\, 東京都西東京市東伏見三丁目1番25号\, 202-0021
END:VEVENT
END:VCALENDAR