BEGIN:VCALENDAR
VERSION:2.0
PRODID:-//大澤ちほ スマイルプロジェクト - ECPv6.15.17//NONSGML v1.0//EN
CALSCALE:GREGORIAN
METHOD:PUBLISH
X-WR-CALNAME:大澤ちほ スマイルプロジェクト
X-ORIGINAL-URL:https://smileproject.jp
X-WR-CALDESC:大澤ちほ スマイルプロジェクト のイベント
REFRESH-INTERVAL;VALUE=DURATION:PT1H
X-Robots-Tag:noindex
X-PUBLISHED-TTL:PT1H
BEGIN:VTIMEZONE
TZID:Asia/Tokyo
BEGIN:STANDARD
TZOFFSETFROM:+0900
TZOFFSETTO:+0900
TZNAME:JST
DTSTART:20230101T000000
END:STANDARD
END:VTIMEZONE
BEGIN:VEVENT
DTSTART;VALUE=DATE:20240307
DTEND;VALUE=DATE:20240311
DTSTAMP:20260419T212855
CREATED:20240301T080722Z
LAST-MODIFIED:20240301T081112Z
UID:978-1709769600-1710115199@smileproject.jp
SUMMARY:全日本女子アイスホッケー選手権大会（A）
DESCRIPTION:★解説担当 \n9日（土）準決勝①14:00〜②16:30〜  \n10日（日）決勝16:30〜
URL:https://smileproject.jp/event/%e5%85%a8%e6%97%a5%e6%9c%ac%e5%a5%b3%e5%ad%90%e3%82%a2%e3%82%a4%e3%82%b9%e3%83%9b%e3%83%83%e3%82%b1%e3%83%bc%e9%81%b8%e6%89%8b%e6%a8%a9%e5%a4%a7%e4%bc%9a%ef%bc%88a%ef%bc%89/
LOCATION:月寒体育館\, 豊平区月寒東1条8丁目1-1\, 札幌市\, 北海道\, 062-0051
END:VEVENT
BEGIN:VEVENT
DTSTART;VALUE=DATE:20240307
DTEND;VALUE=DATE:20240311
DTSTAMP:20260419T212855
CREATED:20240301T081443Z
LAST-MODIFIED:20240301T081443Z
UID:985-1709769600-1710115199@smileproject.jp
SUMMARY:全日本女子アイスホッケー選手権大会（B）
DESCRIPTION:
URL:https://smileproject.jp/event/%e5%85%a8%e6%97%a5%e6%9c%ac%e5%a5%b3%e5%ad%90%e3%82%a2%e3%82%a4%e3%82%b9%e3%83%9b%e3%83%83%e3%82%b1%e3%83%bc%e9%81%b8%e6%89%8b%e6%a8%a9%e5%a4%a7%e4%bc%9a%ef%bc%88b%ef%bc%89/
LOCATION:帯広の森アイスアリーナ\, 南町南７線５６番地７\, 帯広市\, 080-0856
END:VEVENT
END:VCALENDAR