BEGIN:VCALENDAR
VERSION:2.0
PRODID:-//大澤ちほ スマイルプロジェクト - ECPv6.15.17//NONSGML v1.0//EN
CALSCALE:GREGORIAN
METHOD:PUBLISH
X-WR-CALNAME:大澤ちほ スマイルプロジェクト
X-ORIGINAL-URL:https://smileproject.jp
X-WR-CALDESC:大澤ちほ スマイルプロジェクト のイベント
REFRESH-INTERVAL;VALUE=DURATION:PT1H
X-Robots-Tag:noindex
X-PUBLISHED-TTL:PT1H
BEGIN:VTIMEZONE
TZID:Asia/Tokyo
BEGIN:STANDARD
TZOFFSETFROM:+0900
TZOFFSETTO:+0900
TZNAME:JST
DTSTART:20230101T000000
END:STANDARD
END:VTIMEZONE
BEGIN:VEVENT
DTSTART;VALUE=DATE:20240218
DTEND;VALUE=DATE:20240219
DTSTAMP:20260420T001130
CREATED:20240216T082032Z
LAST-MODIFIED:20240216T082410Z
UID:949-1708214400-1708300799@smileproject.jp
SUMMARY:ほっかいどう大運動会
DESCRIPTION:
URL:https://smileproject.jp/event/%e3%81%bb%e3%81%a3%e3%81%8b%e3%81%84%e3%81%a9%e3%81%86%e5%a4%a7%e9%81%8b%e5%8b%95%e4%bc%9a/
LOCATION:札幌ドーム\, 豊平区羊ケ丘1\, 札幌市\, 062-0045
END:VEVENT
END:VCALENDAR